Package: beadarray Version: 2.52.0 Command: /home/biocbuild/R/R-4.3.1/bin/R CMD build --keep-empty-dirs --no-resave-data beadarray StartedAt: 2023-11-01 22:31:08 -0000 (Wed, 01 Nov 2023) EndedAt: 2023-11-01 22:34:44 -0000 (Wed, 01 Nov 2023) EllapsedTime: 215.3 seconds RetCode: 0 Status: OK PackageFile: beadarray_2.52.0.tar.gz PackageFileSize: 2.36 MiB