Package: beadarray Version: 2.52.0 Command: rm -rf beadarray.buildbin-libdir && mkdir beadarray.buildbin-libdir && /Users/biocbuild/BBS/utils/build-universal.sh beadarray_2.52.0.tar.gz /Library/Frameworks/R.framework/Resources/bin/R beadarray.buildbin-libdir StartedAt: 2024-03-04 00:30:13 -0500 (Mon, 04 Mar 2024) EndedAt: 2024-03-04 00:30:56 -0500 (Mon, 04 Mar 2024) EllapsedTime: 42.4 seconds RetCode: 0 Status: OK PackageFile: beadarray_2.52.0.tgz PackageFileSize: 4.643 MiB