Package: beadarray Version: 2.52.0 Command: /Library/Frameworks/R.framework/Resources/bin/R CMD check --install=check:beadarray.install-out.txt --library=/Library/Frameworks/R.framework/Resources/library --no-vignettes --timings beadarray_2.52.0.tar.gz StartedAt: 2024-03-03 19:06:58 -0500 (Sun, 03 Mar 2024) EndedAt: 2024-03-03 19:14:18 -0500 (Sun, 03 Mar 2024) EllapsedTime: 440.0 seconds RetCode: 0 Status: OK CheckDir: beadarray.Rcheck Warnings: 0