Package: beadarray Version: 2.52.0 Command: /Library/Frameworks/R.framework/Resources/bin/R CMD INSTALL beadarray StartedAt: 2024-03-03 15:22:04 -0500 (Sun, 03 Mar 2024) EndedAt: 2024-03-03 15:22:48 -0500 (Sun, 03 Mar 2024) EllapsedTime: 44.0 seconds RetCode: 0 Status: OK