Package: beadarray Version: 2.52.0 Command: /Library/Frameworks/R.framework/Resources/bin/R CMD build --keep-empty-dirs --no-resave-data beadarray StartedAt: 2024-04-15 17:03:35 -0400 (Mon, 15 Apr 2024) EndedAt: 2024-04-15 17:10:04 -0400 (Mon, 15 Apr 2024) EllapsedTime: 388.7 seconds RetCode: 0 Status: OK PackageFile: beadarray_2.52.0.tar.gz PackageFileSize: 2.552 MiB