Package: beadarray Version: 2.52.0 Command: /Library/Frameworks/R.framework/Resources/bin/R CMD INSTALL beadarray StartedAt: 2024-04-15 15:33:08 -0400 (Mon, 15 Apr 2024) EndedAt: 2024-04-15 15:34:08 -0400 (Mon, 15 Apr 2024) EllapsedTime: 59.8 seconds RetCode: 0 Status: OK