Package: beadarray Version: 2.52.0 Command: rm -rf beadarray.buildbin-libdir && mkdir beadarray.buildbin-libdir && F:\biocbuild\bbs-3.18-bioc\R\bin\R.exe CMD INSTALL --build --library=beadarray.buildbin-libdir beadarray_2.52.0.tar.gz StartedAt: 2024-04-16 06:41:07 -0400 (Tue, 16 Apr 2024) EndedAt: 2024-04-16 06:41:55 -0400 (Tue, 16 Apr 2024) EllapsedTime: 48.2 seconds RetCode: 0 Status: OK PackageFile: beadarray_2.52.0.zip PackageFileSize: 4.369 MiB