Package: beadarray Version: 2.52.0 Command: chmod a+r beadarray -R && F:\biocbuild\bbs-3.18-bioc\R\bin\R.exe CMD build --keep-empty-dirs --no-resave-data beadarray StartedAt: 2024-04-15 17:06:13 -0400 (Mon, 15 Apr 2024) EndedAt: 2024-04-15 17:10:56 -0400 (Mon, 15 Apr 2024) EllapsedTime: 283.1 seconds RetCode: 0 Status: OK PackageFile: beadarray_2.52.0.tar.gz PackageFileSize: 2.169 MiB