Package: beadarray Version: 2.52.0 Command: F:\biocbuild\bbs-3.18-bioc\R\bin\R.exe CMD INSTALL beadarray StartedAt: 2024-04-15 16:07:21 -0400 (Mon, 15 Apr 2024) EndedAt: 2024-04-15 16:08:10 -0400 (Mon, 15 Apr 2024) EllapsedTime: 49.7 seconds RetCode: 0 Status: OK