Package: benchdamic Version: 1.8.1 Command: /Library/Frameworks/R.framework/Resources/bin/R CMD INSTALL benchdamic StartedAt: 2024-03-03 15:41:56 -0500 (Sun, 03 Mar 2024) EndedAt: 2024-03-03 15:43:44 -0500 (Sun, 03 Mar 2024) EllapsedTime: 108.0 seconds RetCode: 0 Status: OK