Package: benchdamic Version: 1.8.2 Command: rm -rf benchdamic.buildbin-libdir && mkdir benchdamic.buildbin-libdir && F:\biocbuild\bbs-3.18-bioc\R\bin\R.exe CMD INSTALL --build --library=benchdamic.buildbin-libdir benchdamic_1.8.2.tar.gz StartedAt: 2024-04-16 06:41:24 -0400 (Tue, 16 Apr 2024) EndedAt: 2024-04-16 06:43:08 -0400 (Tue, 16 Apr 2024) EllapsedTime: 104.1 seconds RetCode: 0 Status: OK PackageFile: benchdamic_1.8.2.zip PackageFileSize: 2.096 MiB