Package: biocGraph Version: 1.64.0 Command: rm -rf biocGraph.buildbin-libdir && mkdir biocGraph.buildbin-libdir && /Users/biocbuild/BBS/utils/build-universal.sh biocGraph_1.64.0.tar.gz /Library/Frameworks/R.framework/Resources/bin/R biocGraph.buildbin-libdir StartedAt: 2024-04-16 11:05:16 -0400 (Tue, 16 Apr 2024) EndedAt: 2024-04-16 11:05:59 -0400 (Tue, 16 Apr 2024) EllapsedTime: 42.9 seconds RetCode: 0 Status: OK PackageFile: biocGraph_1.64.0.tgz PackageFileSize: 721 KiB