Package: biodbUniprot
Version: 1.8.0
Command: /Library/Frameworks/R.framework/Resources/bin/R CMD INSTALL biodbUniprot
StartedAt: 2024-04-15 16:16:25 -0400 (Mon, 15 Apr 2024)
EndedAt: 2024-04-15 16:16:41 -0400 (Mon, 15 Apr 2024)
EllapsedTime: 16.0 seconds
RetCode: 0
Status: OK