Package: biomvRCNS Version: 1.42.2 Command: rm -rf biomvRCNS.buildbin-libdir && mkdir biomvRCNS.buildbin-libdir && /Users/biocbuild/BBS/utils/build-universal.sh biomvRCNS_1.42.2.tar.gz /Library/Frameworks/R.framework/Resources/bin/R biomvRCNS.buildbin-libdir StartedAt: 2024-03-04 00:31:15 -0500 (Mon, 04 Mar 2024) EndedAt: 2024-03-04 00:32:32 -0500 (Mon, 04 Mar 2024) EllapsedTime: 76.8 seconds RetCode: 0 Status: OK PackageFile: biomvRCNS_1.42.2.tgz PackageFileSize: 1.261 MiB