Package: biosigner Version: 1.30.0 Command: rm -rf biosigner.buildbin-libdir && mkdir biosigner.buildbin-libdir && F:\biocbuild\bbs-3.18-bioc\R\bin\R.exe CMD INSTALL --build --library=biosigner.buildbin-libdir biosigner_1.30.0.tar.gz StartedAt: 2024-04-16 06:43:18 -0400 (Tue, 16 Apr 2024) EndedAt: 2024-04-16 06:43:55 -0400 (Tue, 16 Apr 2024) EllapsedTime: 37.4 seconds RetCode: 0 Status: OK PackageFile: biosigner_1.30.0.zip PackageFileSize: 3.94 MiB