Package: biosigner Version: 1.30.0 Command: F:\biocbuild\bbs-3.18-bioc\R\bin\R.exe CMD check --no-multiarch --install=check:biosigner.install-out.txt --library=F:\biocbuild\bbs-3.18-bioc\R\library --no-vignettes --timings biosigner_1.30.0.tar.gz StartedAt: 2024-04-15 22:46:47 -0400 (Mon, 15 Apr 2024) EndedAt: 2024-04-15 22:52:21 -0400 (Mon, 15 Apr 2024) EllapsedTime: 334.0 seconds RetCode: 0 Status: OK CheckDir: biosigner.Rcheck Warnings: 0