Package: biscuiteer Version: 1.16.0 Command: /home/biocbuild/R/R-4.3.1/bin/R CMD check --install=check:biscuiteer.install-out.txt --library=/home/biocbuild/R/R-4.3.1/site-library --timings biscuiteer_1.16.0.tar.gz StartedAt: 2023-10-25 07:57:57 -0000 (Wed, 25 Oct 2023) EndedAt: 2023-10-25 08:11:27 -0000 (Wed, 25 Oct 2023) EllapsedTime: 810.3 seconds RetCode: 0 Status: WARNINGS CheckDir: biscuiteer.Rcheck Warnings: 1