Package: blacksheepr Version: 1.16.0 Command: rm -rf blacksheepr.buildbin-libdir && mkdir blacksheepr.buildbin-libdir && /Users/biocbuild/BBS/utils/build-universal.sh blacksheepr_1.16.0.tar.gz /Library/Frameworks/R.framework/Resources/bin/R blacksheepr.buildbin-libdir StartedAt: 2024-03-04 00:31:25 -0500 (Mon, 04 Mar 2024) EndedAt: 2024-03-04 00:32:01 -0500 (Mon, 04 Mar 2024) EllapsedTime: 36.2 seconds RetCode: 0 Status: OK PackageFile: blacksheepr_1.16.0.tgz PackageFileSize: 4.275 MiB