Package: blacksheepr Version: 1.16.0 Command: /Library/Frameworks/R.framework/Resources/bin/R CMD build --keep-empty-dirs --no-resave-data blacksheepr StartedAt: 2024-03-03 16:04:06 -0500 (Sun, 03 Mar 2024) EndedAt: 2024-03-03 16:06:57 -0500 (Sun, 03 Mar 2024) EllapsedTime: 170.5 seconds RetCode: 0 Status: OK PackageFile: blacksheepr_1.16.0.tar.gz PackageFileSize: 4.218 MiB