Package: bluster Version: 1.12.0 Command: /Library/Frameworks/R.framework/Resources/bin/R CMD check --install=check:bluster.install-out.txt --library=/Library/Frameworks/R.framework/Resources/library --no-vignettes --timings bluster_1.12.0.tar.gz StartedAt: 2024-03-03 19:18:10 -0500 (Sun, 03 Mar 2024) EndedAt: 2024-03-03 19:20:51 -0500 (Sun, 03 Mar 2024) EllapsedTime: 161.2 seconds RetCode: 0 Status: OK CheckDir: bluster.Rcheck Warnings: 0