Package: bnbc Version: 1.24.2 Command: /Library/Frameworks/R.framework/Resources/bin/R CMD check --install=check:bnbc.install-out.txt --library=/Library/Frameworks/R.framework/Resources/library --no-vignettes --timings bnbc_1.24.2.tar.gz StartedAt: 2024-03-03 19:18:20 -0500 (Sun, 03 Mar 2024) EndedAt: 2024-03-03 19:24:35 -0500 (Sun, 03 Mar 2024) EllapsedTime: 375.4 seconds RetCode: 0 Status: OK CheckDir: bnbc.Rcheck Warnings: 0