Package: bnbc Version: 1.24.2 Command: /Library/Frameworks/R.framework/Resources/bin/R CMD INSTALL bnbc StartedAt: 2024-03-03 15:32:51 -0500 (Sun, 03 Mar 2024) EndedAt: 2024-03-03 15:33:54 -0500 (Sun, 03 Mar 2024) EllapsedTime: 63.1 seconds RetCode: 0 Status: OK