Package: bnbc Version: 1.24.2 Command: rm -rf bnbc.buildbin-libdir && mkdir bnbc.buildbin-libdir && /Users/biocbuild/BBS/utils/build-universal.sh bnbc_1.24.2.tar.gz /Library/Frameworks/R.framework/Resources/bin/R bnbc.buildbin-libdir StartedAt: 2024-04-16 11:07:23 -0400 (Tue, 16 Apr 2024) EndedAt: 2024-04-16 11:09:20 -0400 (Tue, 16 Apr 2024) EllapsedTime: 117.2 seconds RetCode: 0 Status: OK PackageFile: bnbc_1.24.2.tgz PackageFileSize: 4.566 MiB