Package: bnbc Version: 1.24.2 Command: /Library/Frameworks/R.framework/Resources/bin/R CMD build --keep-empty-dirs --no-resave-data bnbc StartedAt: 2024-04-15 17:20:57 -0400 (Mon, 15 Apr 2024) EndedAt: 2024-04-15 17:24:03 -0400 (Mon, 15 Apr 2024) EllapsedTime: 186.0 seconds RetCode: 0 Status: OK PackageFile: bnbc_1.24.2.tar.gz PackageFileSize: 4.152 MiB