Package: bnbc Version: 1.24.2 Command: /Library/Frameworks/R.framework/Resources/bin/R CMD INSTALL bnbc StartedAt: 2024-04-15 16:10:10 -0400 (Mon, 15 Apr 2024) EndedAt: 2024-04-15 16:12:00 -0400 (Mon, 15 Apr 2024) EllapsedTime: 109.7 seconds RetCode: 0 Status: OK