Package: bnbc Version: 1.24.2 Command: /home/biocbuild/bbs-3.18-bioc/R/bin/R CMD check --install=check:bnbc.install-out.txt --library=/home/biocbuild/bbs-3.18-bioc/R/site-library --timings bnbc_1.24.2.tar.gz StartedAt: 2024-04-15 20:40:54 -0400 (Mon, 15 Apr 2024) EndedAt: 2024-04-15 20:47:22 -0400 (Mon, 15 Apr 2024) EllapsedTime: 387.9 seconds RetCode: 0 Status: OK CheckDir: bnbc.Rcheck Warnings: 0