Package: borealis Version: 1.6.0 Command: /home/biocbuild/bbs-3.18-bioc/R/bin/R CMD build --keep-empty-dirs --no-resave-data borealis StartedAt: 2024-04-15 16:15:16 -0400 (Mon, 15 Apr 2024) EndedAt: 2024-04-15 16:17:09 -0400 (Mon, 15 Apr 2024) EllapsedTime: 113.6 seconds RetCode: 0 Status: OK PackageFile: borealis_1.6.0.tar.gz PackageFileSize: 408.5 KiB