Package: borealis Version: 1.6.0 Command: /home/biocbuild/bbs-3.18-bioc/R/bin/R CMD check --install=check:borealis.install-out.txt --library=/home/biocbuild/bbs-3.18-bioc/R/site-library --timings borealis_1.6.0.tar.gz StartedAt: 2024-04-15 20:41:47 -0400 (Mon, 15 Apr 2024) EndedAt: 2024-04-15 20:49:08 -0400 (Mon, 15 Apr 2024) EllapsedTime: 440.9 seconds RetCode: 0 Status: OK CheckDir: borealis.Rcheck Warnings: 0