Package: borealis Version: 1.6.0 Command: rm -rf borealis.buildbin-libdir && mkdir borealis.buildbin-libdir && F:\biocbuild\bbs-3.18-bioc\R\bin\R.exe CMD INSTALL --build --library=borealis.buildbin-libdir borealis_1.6.0.tar.gz StartedAt: 2024-04-16 06:43:53 -0400 (Tue, 16 Apr 2024) EndedAt: 2024-04-16 06:44:46 -0400 (Tue, 16 Apr 2024) EllapsedTime: 53.7 seconds RetCode: 0 Status: OK PackageFile: borealis_1.6.0.zip PackageFileSize: 394 KiB