Package: borealis Version: 1.6.0 Command: chmod a+r borealis -R && F:\biocbuild\bbs-3.18-bioc\R\bin\R.exe CMD build --keep-empty-dirs --no-resave-data borealis StartedAt: 2024-04-15 17:21:16 -0400 (Mon, 15 Apr 2024) EndedAt: 2024-04-15 17:23:32 -0400 (Mon, 15 Apr 2024) EllapsedTime: 136.2 seconds RetCode: 0 Status: OK PackageFile: borealis_1.6.0.tar.gz PackageFileSize: 342.8 KiB