Package: bumphunter Version: 1.44.0 Command: /home/biocbuild/R/R-4.3.1/bin/R CMD check --install=check:bumphunter.install-out.txt --library=/home/biocbuild/R/R-4.3.1/site-library --no-vignettes --timings bumphunter_1.44.0.tar.gz StartedAt: 2023-11-02 08:55:42 -0000 (Thu, 02 Nov 2023) EndedAt: 2023-11-02 09:02:14 -0000 (Thu, 02 Nov 2023) EllapsedTime: 392.1 seconds RetCode: 1 Status: ERROR CheckDir: bumphunter.Rcheck Warnings: NA