Package: bumphunter Version: 1.44.0 Command: rm -rf bumphunter.buildbin-libdir && mkdir bumphunter.buildbin-libdir && /Users/biocbuild/BBS/utils/build-universal.sh bumphunter_1.44.0.tar.gz /Library/Frameworks/R.framework/Resources/bin/R bumphunter.buildbin-libdir StartedAt: 2024-04-16 11:08:39 -0400 (Tue, 16 Apr 2024) EndedAt: 2024-04-16 11:10:34 -0400 (Tue, 16 Apr 2024) EllapsedTime: 115.0 seconds RetCode: 0 Status: OK PackageFile: bumphunter_1.44.0.tgz PackageFileSize: 4.452 MiB