Package: categoryCompare Version: 1.46.0 Command: rm -rf categoryCompare.buildbin-libdir && mkdir categoryCompare.buildbin-libdir && /Users/biocbuild/BBS/utils/build-universal.sh categoryCompare_1.46.0.tar.gz /Library/Frameworks/R.framework/Resources/bin/R categoryCompare.buildbin-libdir StartedAt: 2024-03-04 00:32:32 -0500 (Mon, 04 Mar 2024) EndedAt: 2024-03-04 00:33:15 -0500 (Mon, 04 Mar 2024) EllapsedTime: 43.1 seconds RetCode: 0 Status: OK PackageFile: categoryCompare_1.46.0.tgz PackageFileSize: 2.547 MiB