Package: cbaf Version: 1.24.0 Command: /home/biocbuild/R/R-4.3.1/bin/R CMD build --keep-empty-dirs --no-resave-data cbaf StartedAt: 2023-11-01 23:03:28 -0000 (Wed, 01 Nov 2023) EndedAt: 2023-11-01 23:05:07 -0000 (Wed, 01 Nov 2023) EllapsedTime: 99.1 seconds RetCode: 0 Status: OK PackageFile: cbaf_1.24.0.tar.gz PackageFileSize: 807.7 KiB