Package: cellbaseR Version: 1.26.0 Command: /home/biocbuild/R/R-4.3.1/bin/R CMD build --keep-empty-dirs --no-resave-data cellbaseR StartedAt: 2023-11-01 23:06:09 -0000 (Wed, 01 Nov 2023) EndedAt: 2023-11-01 23:06:35 -0000 (Wed, 01 Nov 2023) EllapsedTime: 26.0 seconds RetCode: 1 Status: ERROR PackageFile: None PackageFileSize: NA