Package: cellbaseR Version: 1.25.0 Command: /home/biocbuild/R/R-4.3.1/bin/R CMD check --install=check:cellbaseR.install-out.txt --library=/home/biocbuild/R/R-4.3.1/site-library --timings cellbaseR_1.25.0.tar.gz StartedAt: 2023-10-06 02:40:35 -0000 (Fri, 06 Oct 2023) EndedAt: 2023-10-06 02:43:57 -0000 (Fri, 06 Oct 2023) EllapsedTime: 201.5 seconds RetCode: 0 Status: OK CheckDir: cellbaseR.Rcheck Warnings: 0