Package: cellbaseR Version: 1.26.0 Command: rm -rf cellbaseR.buildbin-libdir && mkdir cellbaseR.buildbin-libdir && /Users/biocbuild/BBS/utils/build-universal.sh cellbaseR_1.26.0.tar.gz /Library/Frameworks/R.framework/Resources/bin/R cellbaseR.buildbin-libdir StartedAt: 2024-04-16 11:12:01 -0400 (Tue, 16 Apr 2024) EndedAt: 2024-04-16 11:13:13 -0400 (Tue, 16 Apr 2024) EllapsedTime: 72.8 seconds RetCode: 0 Status: OK PackageFile: cellbaseR_1.26.0.tgz PackageFileSize: 776.1 KiB