Package: cellbaseR Version: 1.26.0 Command: /Library/Frameworks/R.framework/Resources/bin/R CMD build --keep-empty-dirs --no-resave-data cellbaseR StartedAt: 2024-04-15 17:31:03 -0400 (Mon, 15 Apr 2024) EndedAt: 2024-04-15 17:32:35 -0400 (Mon, 15 Apr 2024) EllapsedTime: 92.1 seconds RetCode: 0 Status: OK PackageFile: cellbaseR_1.26.0.tar.gz PackageFileSize: 531 KiB