Package: cellbaseR Version: 1.26.0 Command: /home/biocbuild/bbs-3.18-bioc/R/bin/R CMD build --keep-empty-dirs --no-resave-data cellbaseR StartedAt: 2024-04-15 16:21:26 -0400 (Mon, 15 Apr 2024) EndedAt: 2024-04-15 16:22:16 -0400 (Mon, 15 Apr 2024) EllapsedTime: 50.7 seconds RetCode: 0 Status: OK PackageFile: cellbaseR_1.26.0.tar.gz PackageFileSize: 475.3 KiB