Package: cellbaseR Version: 1.26.0 Command: rm -rf cellbaseR.buildbin-libdir && mkdir cellbaseR.buildbin-libdir && F:\biocbuild\bbs-3.18-bioc\R\bin\R.exe CMD INSTALL --build --library=cellbaseR.buildbin-libdir cellbaseR_1.26.0.tar.gz StartedAt: 2024-04-16 06:46:26 -0400 (Tue, 16 Apr 2024) EndedAt: 2024-04-16 06:46:48 -0400 (Tue, 16 Apr 2024) EllapsedTime: 22.5 seconds RetCode: 0 Status: OK PackageFile: cellbaseR_1.26.0.zip PackageFileSize: 716.6 KiB