Package: cellmigRation Version: 1.10.0 Command: /Library/Frameworks/R.framework/Resources/bin/R CMD INSTALL cellmigRation StartedAt: 2024-03-03 15:37:26 -0500 (Sun, 03 Mar 2024) EndedAt: 2024-03-03 15:37:49 -0500 (Sun, 03 Mar 2024) EllapsedTime: 23.3 seconds RetCode: 0 Status: OK