Package: cellmigRation Version: 1.10.0 Command: rm -rf cellmigRation.buildbin-libdir && mkdir cellmigRation.buildbin-libdir && /Users/biocbuild/BBS/utils/build-universal.sh cellmigRation_1.10.0.tar.gz /Library/Frameworks/R.framework/Resources/bin/R cellmigRation.buildbin-libdir StartedAt: 2024-04-16 11:12:11 -0400 (Tue, 16 Apr 2024) EndedAt: 2024-04-16 11:13:21 -0400 (Tue, 16 Apr 2024) EllapsedTime: 69.9 seconds RetCode: 0 Status: OK PackageFile: cellmigRation_1.10.0.tgz PackageFileSize: 1.976 MiB