Package: cellscape Version: 1.26.0 Command: rm -rf cellscape.buildbin-libdir && mkdir cellscape.buildbin-libdir && /Users/biocbuild/BBS/utils/build-universal.sh cellscape_1.26.0.tar.gz /Library/Frameworks/R.framework/Resources/bin/R cellscape.buildbin-libdir StartedAt: 2024-03-04 00:33:08 -0500 (Mon, 04 Mar 2024) EndedAt: 2024-03-04 00:33:15 -0500 (Mon, 04 Mar 2024) EllapsedTime: 6.8 seconds RetCode: 0 Status: OK PackageFile: cellscape_1.26.0.tgz PackageFileSize: 883.8 KiB