Package: cellxgenedp Version: 1.6.1 Command: /home/biocbuild/R/R-4.3.1/bin/R CMD build --keep-empty-dirs --no-resave-data cellxgenedp StartedAt: 2023-11-01 23:10:21 -0000 (Wed, 01 Nov 2023) EndedAt: 2023-11-01 23:11:00 -0000 (Wed, 01 Nov 2023) EllapsedTime: 39.0 seconds RetCode: 0 Status: OK PackageFile: cellxgenedp_1.6.1.tar.gz PackageFileSize: 270.9 KiB