Package: cellxgenedp Version: 1.6.1 Command: /Library/Frameworks/R.framework/Resources/bin/R CMD check --install=check:cellxgenedp.install-out.txt --library=/Library/Frameworks/R.framework/Resources/library --no-vignettes --timings cellxgenedp_1.6.1.tar.gz StartedAt: 2024-03-03 19:31:48 -0500 (Sun, 03 Mar 2024) EndedAt: 2024-03-03 19:33:47 -0500 (Sun, 03 Mar 2024) EllapsedTime: 119.3 seconds RetCode: 0 Status: OK CheckDir: cellxgenedp.Rcheck Warnings: 0