Package: cellxgenedp Version: 1.6.1 Command: /Library/Frameworks/R.framework/Resources/bin/R CMD INSTALL cellxgenedp StartedAt: 2024-03-03 15:24:14 -0500 (Sun, 03 Mar 2024) EndedAt: 2024-03-03 15:24:25 -0500 (Sun, 03 Mar 2024) EllapsedTime: 10.7 seconds RetCode: 0 Status: OK