Package: cellxgenedp Version: 1.6.2 Command: F:\biocbuild\bbs-3.18-bioc\R\bin\R.exe CMD check --no-multiarch --install=check:cellxgenedp.install-out.txt --library=F:\biocbuild\bbs-3.18-bioc\R\library --no-vignettes --timings cellxgenedp_1.6.2.tar.gz StartedAt: 2024-04-15 23:09:31 -0400 (Mon, 15 Apr 2024) EndedAt: 2024-04-15 23:11:40 -0400 (Mon, 15 Apr 2024) EllapsedTime: 129.0 seconds RetCode: 0 Status: OK CheckDir: cellxgenedp.Rcheck Warnings: 0