Package: cghMCR Version: 1.60.0 Command: /home/biocbuild/R/R-4.3.1/bin/R CMD build --keep-empty-dirs --no-resave-data cghMCR StartedAt: 2023-11-01 23:15:00 -0000 (Wed, 01 Nov 2023) EndedAt: 2023-11-01 23:16:15 -0000 (Wed, 01 Nov 2023) EllapsedTime: 75.1 seconds RetCode: 0 Status: OK PackageFile: cghMCR_1.60.0.tar.gz PackageFileSize: 36.1 MiB