Package: cghMCR Version: 1.60.0 Command: /Library/Frameworks/R.framework/Resources/bin/R CMD build --keep-empty-dirs --no-resave-data cghMCR StartedAt: 2024-04-15 17:36:35 -0400 (Mon, 15 Apr 2024) EndedAt: 2024-04-15 17:39:03 -0400 (Mon, 15 Apr 2024) EllapsedTime: 147.6 seconds RetCode: 0 Status: OK PackageFile: cghMCR_1.60.0.tar.gz PackageFileSize: 36.1 MiB