Package: cghMCR Version: 1.60.0 Command: chmod a+r cghMCR -R && F:\biocbuild\bbs-3.18-bioc\R\bin\R.exe CMD build --keep-empty-dirs --no-resave-data cghMCR StartedAt: 2024-04-15 17:32:18 -0400 (Mon, 15 Apr 2024) EndedAt: 2024-04-15 17:33:39 -0400 (Mon, 15 Apr 2024) EllapsedTime: 81.4 seconds RetCode: 0 Status: OK PackageFile: cghMCR_1.60.0.tar.gz PackageFileSize: 36.01 MiB